BEGIN:VCALENDAR
VERSION:2.0
PRODID:-//Carlowlibraries.ie - ECPv4.4.2//NONSGML v1.0//EN
CALSCALE:GREGORIAN
METHOD:PUBLISH
X-WR-CALNAME:Carlowlibraries.ie
X-ORIGINAL-URL:http://www.carlowlibraries.ie
X-WR-CALDESC:Events for Carlowlibraries.ie
BEGIN:VEVENT
DTSTART;TZID=Europe/London:20161119T080000
DTEND;TZID=Europe/London:20161124T170000
DTSTAMP:20171024T042407
CREATED:20161115T103543Z
LAST-MODIFIED:20161115T103543Z
UID:2493-1479542400-1480006800@www.carlowlibraries.ie
SUMMARY:The Sacred Lives of Trees Exhibition
DESCRIPTION:Exhibition of work by local artist Caroline Cunningham
URL:http://www.carlowlibraries.ie/events/the-sacred-lives-of-trees-exhibition
CATEGORIES:Adult Event
ORGANIZER;CN="Fiona%20Foskin":MAILTO:ffoskin@carlowcoco.ie 
END:VEVENT
END:VCALENDAR