BEGIN:VCALENDAR
VERSION:2.0
PRODID:-//Carlowlibraries.ie - ECPv4.4.2//NONSGML v1.0//EN
CALSCALE:GREGORIAN
METHOD:PUBLISH
X-WR-CALNAME:Carlowlibraries.ie
X-ORIGINAL-URL:http://www.carlowlibraries.ie
X-WR-CALDESC:Events for Carlowlibraries.ie
BEGIN:VEVENT
DTSTART;TZID=Europe/London:20161210T103000
DTEND;TZID=Europe/London:20161210T120000
DTSTAMP:20171024T042635
CREATED:20161122T151514Z
LAST-MODIFIED:20161122T151514Z
UID:2499-1481365800-1481371200@www.carlowlibraries.ie
SUMMARY:The Popcorn Club Christmas Movie Borris
DESCRIPTION:Pop along to Borris Library for our Popcorn clubs Christmas movie 
URL:http://www.carlowlibraries.ie/events/the-popcorn-club-christmas-movie-borris
CATEGORIES:Children's Event
END:VEVENT
END:VCALENDAR