BEGIN:VCALENDAR
VERSION:2.0
PRODID:-//Carlowlibraries.ie - ECPv4.4.2//NONSGML v1.0//EN
CALSCALE:GREGORIAN
METHOD:PUBLISH
X-WR-CALNAME:Carlowlibraries.ie
X-ORIGINAL-URL:http://www.carlowlibraries.ie
X-WR-CALDESC:Events for Carlowlibraries.ie
BEGIN:VEVENT
DTSTART;TZID=Europe/London:20170214T200000
DTEND;TZID=Europe/London:20170214T210000
DTSTAMP:20171024T043110
CREATED:20170208T174636Z
LAST-MODIFIED:20170208T174636Z
UID:2524-1487102400-1487106000@www.carlowlibraries.ie
SUMMARY:The Luck of Love
DESCRIPTION:John MacKenna Writer In Residence and Carlow Library Writing Groups will present their views on love in prose and poetry and everyone is welcome to this free event. Promises to be a night of laughter\, tears\, memories and a couple of very funny recollections of Valentines Nights and of the luck and ill luck of being in love
URL:http://www.carlowlibraries.ie/events/the-luck-of-love
END:VEVENT
END:VCALENDAR