BEGIN:VCALENDAR
VERSION:2.0
PRODID:-//Carlowlibraries.ie - ECPv4.4.2//NONSGML v1.0//EN
CALSCALE:GREGORIAN
METHOD:PUBLISH
X-WR-CALNAME:Carlowlibraries.ie
X-ORIGINAL-URL:http://www.carlowlibraries.ie
X-WR-CALDESC:Events for Carlowlibraries.ie
BEGIN:VEVENT
DTSTART;TZID=Europe/London:20160502T094500
DTEND;TZID=Europe/London:20160601T173000
DTSTAMP:20171104T073604
CREATED:20160505T095310Z
LAST-MODIFIED:20160505T095310Z
UID:2405-1462182300-1464802200@www.carlowlibraries.ie
SUMMARY:The Dresser Project Exhibition
DESCRIPTION:Come in and have a look at the striking images as a result of the Dresser Project by Michael Fortune. The exhibition will run from May 2nd to June 1st with an official launch and artists talk on May 18th at 1:30pm. All are very welcome.\n\nSome background to the project:\n\nThe Dresser Project is a new body of work being conducted by artist Michael Fortune for the 2016 Bealtaine Festival in Counties Mayo\, Waterford\, Carlow and Tipperary. Over the coming months Michael will travel each county documenting their particular dressers through a combination of photography\, film and story.\n\nThe foundation for the artists particular interest in this subject stems from his own recently deceased 103-year-old grandmother’s dresser. Michael is interested in how these constantly evolving and ever changing displays reflect the experiences\, lives and values of their keepers.\n\nOver the course of his work Michael hopes to document fifteen dressers per county. If you know of any dressers or maybe have one yourself or in your own family\, Michael would love to talk to you. However big or small\, plain or ornate the dresser is\, please contact him by phone on 087 6470247 or by email at micfortune@gmail.com.\n\nThe Dresser Project has been supported by the Arts Departments of Carlow\, Mayo and Tipperary County Council and Waterford City and County Council\, in collaboration with the Folklore Department of University College Cork and the National Museum of Ireland - Country Life in County Mayo. \n\nThe Dresser Project has been supported by the Arts Departments of Carlow County Council\, Mayo County Council\, Waterford City & County Council and the Arts and Heritage Offices of Tipperary County Council\, in collaboration with the Folklore Department of University College Cork and the National Museum of Ireland - Country Life. Main mage from the home of Norah Seville. All images by Michael Fortune.
URL:http://www.carlowlibraries.ie/events/the-dresser-project-exhibition
ORGANIZER;CN="Fiona%20Foskin":MAILTO:ffoskin@carlowcoco.ie 
END:VEVENT
END:VCALENDAR