BEGIN:VCALENDAR
VERSION:2.0
PRODID:-//Carlowlibraries.ie - ECPv4.4.2//NONSGML v1.0//EN
CALSCALE:GREGORIAN
METHOD:PUBLISH
X-WR-CALNAME:Carlowlibraries.ie
X-ORIGINAL-URL:http://www.carlowlibraries.ie
X-WR-CALDESC:Events for Carlowlibraries.ie
BEGIN:VEVENT
DTSTART;TZID=Europe/London:20170419T150000
DTEND;TZID=Europe/London:20170419T160000
DTSTAMP:20171104T140216
CREATED:20170418T115055Z
LAST-MODIFIED:20170418T115055Z
UID:2561-1492614000-1492617600@www.carlowlibraries.ie
SUMMARY:Spring into Storytime at Tullow Library
DESCRIPTION:'Spring Into Storytime' is a national storytime initiative taking place in all Local Authorities during the month of April\, come along to Tullow Library on Wednesday 19th April at 3pm
URL:http://www.carlowlibraries.ie/events/spring-into-storytime-at-tullow-library
ORGANIZER;CN="Sandra%20Turner":MAILTO:sturner@carlowcoco.ie
END:VEVENT
END:VCALENDAR