BEGIN:VCALENDAR
VERSION:2.0
PRODID:-//Carlowlibraries.ie - ECPv4.4.2//NONSGML v1.0//EN
CALSCALE:GREGORIAN
METHOD:PUBLISH
X-WR-CALNAME:Carlowlibraries.ie
X-ORIGINAL-URL:http://www.carlowlibraries.ie
X-WR-CALDESC:Events for Carlowlibraries.ie
BEGIN:VEVENT
DTSTART;TZID=Europe/London:20160421T180000
DTEND;TZID=Europe/London:20160421T190000
DTSTAMP:20171024T041415
CREATED:20160407T143504Z
LAST-MODIFIED:20160407T143957Z
UID:2383-1461261600-1461265200@www.carlowlibraries.ie
SUMMARY:Spring Clean your Mind with Peter Curry
DESCRIPTION:Do you really want to know what you want from life? And more importantly\, imagine knowing how you can get it! Call in and listen to Peter who will help you spring clean your thoughts and behaviors towards getting more of what you want from life.\n\nCall 059-9129705 for further details or find us on Facebook and Twitter. \nSpring Clean Your Life is a partnership project between Carlow Library Service and Carlow Mental Health Association.
URL:http://www.carlowlibraries.ie/events/spring-clean-your-mind-with-peter-curry
CATEGORIES:Adult Event
ORGANIZER;CN="Jannette%20O%27Brien":MAILTO:jobrien@carlowcoco.ie 
END:VEVENT
END:VCALENDAR