BEGIN:VCALENDAR
VERSION:2.0
PRODID:-//Carlowlibraries.ie - ECPv4.4.2//NONSGML v1.0//EN
CALSCALE:GREGORIAN
METHOD:PUBLISH
X-WR-CALNAME:Carlowlibraries.ie
X-ORIGINAL-URL:http://www.carlowlibraries.ie
X-WR-CALDESC:Events for Carlowlibraries.ie
BEGIN:VEVENT
DTSTART;TZID=Europe/London:20170404T180000
DTEND;TZID=Europe/London:20170404T190000
DTSTAMP:20171104T135901
CREATED:20170401T001355Z
LAST-MODIFIED:20170401T001355Z
UID:2547-1491328800-1491332400@www.carlowlibraries.ie
SUMMARY:Spring Clean Your Life Mind Body and Soul
DESCRIPTION:\n\nTuesday 4th April - Carlow Library\n\nGetting to Grips with Anxiety - Darren Reid \, Psychotherapist
URL:http://www.carlowlibraries.ie/events/spring-clean-your-life-mind-body-and-soul
END:VEVENT
END:VCALENDAR