BEGIN:VCALENDAR
VERSION:2.0
PRODID:-//Carlowlibraries.ie - ECPv4.4.2//NONSGML v1.0//EN
CALSCALE:GREGORIAN
METHOD:PUBLISH
X-WR-CALNAME:Carlowlibraries.ie
X-ORIGINAL-URL:http://www.carlowlibraries.ie
X-WR-CALDESC:Events for Carlowlibraries.ie
BEGIN:VEVENT
DTSTART;TZID=Europe/London:20160911T130000
DTEND;TZID=Europe/London:20160911T153000
DTSTAMP:20171028T232608
CREATED:20160829T114228Z
LAST-MODIFIED:20160829T114455Z
UID:2466-1473598800-1473607800@www.carlowlibraries.ie
SUMMARY:Spooky Tales with Caroline Busher
DESCRIPTION:This year we will have our first workshops for Children\, author Caroline Busher will treat those under 12 to a workshop on how to craft Spooky Tales on Sunday the 11th September! Caroline is a Children’s author currently living by the slumbering giants of the Blackstairs Mountains and with a range of experience behind her\, look out for her novel\, ‘The Ghosts of Magnificent Children.’ Coming soon. There will be 2 workshops on Sunday one at 1pm and one at 2.30 pm. 
URL:http://www.carlowlibraries.ie/events/spooky-tales-with-caroline-busher
END:VEVENT
END:VCALENDAR