BEGIN:VCALENDAR
VERSION:2.0
PRODID:-//Carlowlibraries.ie - ECPv4.4.2//NONSGML v1.0//EN
CALSCALE:GREGORIAN
METHOD:PUBLISH
X-WR-CALNAME:Carlowlibraries.ie
X-ORIGINAL-URL:http://www.carlowlibraries.ie
X-WR-CALDESC:Events for Carlowlibraries.ie
BEGIN:VEVENT
DTSTART;TZID=Europe/London:20160911T103000
DTEND;TZID=Europe/London:20160911T163000
DTSTAMP:20171024T043532
CREATED:20160829T094824Z
LAST-MODIFIED:20160829T094824Z
UID:2463-1473589800-1473611400@www.carlowlibraries.ie
SUMMARY:Screenwriting with Pauric Brennan
DESCRIPTION:‘Screenwriting with Pauric Brennan’\, the author of several short films\, plays and a novel\, he is also the Director of an Offline Film Festival Finalist. Other shorts produced include ‘Effigy Road’ directed by Robert Kelly\, short listed for awards at LITFF and ‘Dead Diary’\, look at Me\, Backstage- winner of best actor at LITFF. To Book please contact ffoskin@carlowcoco.ie 
URL:http://www.carlowlibraries.ie/events/screenwriting-with-pauric-brennan
ORGANIZER;CN="Fiona%20Foskin":MAILTO:ffoskin@carlowcoco.ie 
END:VEVENT
END:VCALENDAR