BEGIN:VCALENDAR
VERSION:2.0
PRODID:-//Carlowlibraries.ie - ECPv4.4.2//NONSGML v1.0//EN
CALSCALE:GREGORIAN
METHOD:PUBLISH
X-WR-CALNAME:Carlowlibraries.ie
X-ORIGINAL-URL:http://www.carlowlibraries.ie
X-WR-CALDESC:Events for Carlowlibraries.ie
BEGIN:VEVENT
DTSTART;TZID=Europe/London:20160511T103000
DTEND;TZID=Europe/London:20160511T120000
DTSTAMP:20171024T040138
CREATED:20160505T094144Z
LAST-MODIFIED:20160505T094144Z
UID:2400-1462962600-1462968000@www.carlowlibraries.ie
SUMMARY:Screening of Older than Ireland
DESCRIPTION:Special screening of Older than Ireland as part of the national Bealtaine Festival\, celebrating creativity in older age. This is a Borris Library event.
URL:http://www.carlowlibraries.ie/events/screening-of-older-than-ireland-3
CATEGORIES:Adult Event
ORGANIZER;CN="Fiona%20Foskin":MAILTO:ffoskin@carlowcoco.ie 
END:VEVENT
END:VCALENDAR