BEGIN:VCALENDAR
VERSION:2.0
PRODID:-//Carlowlibraries.ie - ECPv4.4.2//NONSGML v1.0//EN
CALSCALE:GREGORIAN
METHOD:PUBLISH
X-WR-CALNAME:Carlowlibraries.ie
X-ORIGINAL-URL:http://www.carlowlibraries.ie
X-WR-CALDESC:Events for Carlowlibraries.ie
BEGIN:VEVENT
DTSTART;TZID=Europe/London:20170923T200000
DTEND;TZID=Europe/London:20170923T213000
DTSTAMP:20171028T231758
CREATED:20170919T094940Z
LAST-MODIFIED:20170919T094940Z
UID:2676-1506196800-1506202200@www.carlowlibraries.ie
SUMMARY:PenFest 2017: The Writing Life - a panel discussion
DESCRIPTION:As part of Creative Ireland's Pen Fest 2017\, Carlow's Creative Writing Festival there will be a panel discussion with PenFest writers in Carlow College\, St. Patricks on Saturday evening\, Sept. 23rd at 8pm.\n\nThe panel will include: Barry McKinley\, Sarah Maria Griffin\, Dominic Williams\, Joe Campbell and Carlow College Poet iin Residence Michael McCarthy. Derek Coyle will MC/Host the occasion.\n\nA must for all those interested in writing and getting published.\n\nFor more information contact Fiona at 059 9129705 or email library@carlowcoco.ie
URL:http://www.carlowlibraries.ie/events/penfest-2017-the-writing-life-a-panel-discussion
CATEGORIES:Adult Event,Young People
ATTACH;FMTTYPE=image/jpeg:http://www.carlowlibraries.ie/wp-content/uploads/2017/09/18950985_1116544551822208_5404958787371150639_n.jpg
END:VEVENT
END:VCALENDAR