BEGIN:VCALENDAR
VERSION:2.0
PRODID:-//Carlowlibraries.ie - ECPv4.4.2//NONSGML v1.0//EN
CALSCALE:GREGORIAN
METHOD:PUBLISH
X-WR-CALNAME:Carlowlibraries.ie
X-ORIGINAL-URL:http://www.carlowlibraries.ie
X-WR-CALDESC:Events for Carlowlibraries.ie
BEGIN:VEVENT
DTSTART;TZID=Europe/London:20170923T100000
DTEND;TZID=Europe/London:20170923T120000
DTSTAMP:20171104T073214
CREATED:20170920T144527Z
LAST-MODIFIED:20170920T144527Z
UID:2680-1506160800-1506168000@www.carlowlibraries.ie
SUMMARY:PenFest 2017: Guerrilla Poetry Workshop with Dominic Williams
DESCRIPTION:Guerilla poetry is the promotion of the language arts and literary messages through unexpectedcetd channels. For the last four years Welsh poet Dominic Williams has been delivering practical guerilla poetry workshosp on behalf of literary community interest company Write4Wordat the annual "Tranås at the Fringe" literary festival in Sweden. This international collaboration is part of the Coracle Europe cultural exchange partnership. From sonnets in your shoe-fitting to rubber snakes falling from the sky\, on Saturday morning Dominic will talk about some of the guerrilla poetry exercises he has led in Sweden. The workshop will also include a collaborative interactive element ...\n\nTo book a place contact Fiona at 059 9129705 or email library@carlowcoco.ie
URL:http://www.carlowlibraries.ie/events/penfest-2017-guerrilla-poetry-workshop-with-dominic-williams
CATEGORIES:Adult Event
ATTACH;FMTTYPE=image/jpeg:http://www.carlowlibraries.ie/wp-content/uploads/2017/09/21752255_1508983269149595_6528220725400487816_n.jpg
END:VEVENT
END:VCALENDAR