BEGIN:VCALENDAR
VERSION:2.0
PRODID:-//Carlowlibraries.ie - ECPv4.4.2//NONSGML v1.0//EN
CALSCALE:GREGORIAN
METHOD:PUBLISH
X-WR-CALNAME:Carlowlibraries.ie
X-ORIGINAL-URL:http://www.carlowlibraries.ie
X-WR-CALDESC:Events for Carlowlibraries.ie
BEGIN:VEVENT
DTSTART;TZID=Europe/London:20170822T110000
DTEND;TZID=Europe/London:20170822T120000
DTSTAMP:20171024T011719
CREATED:20170802T112450Z
LAST-MODIFIED:20170802T112450Z
UID:2640-1503399600-1503403200@www.carlowlibraries.ie
SUMMARY:Heritage Week - Tracing Your Family Tree with Bernie Walsh
DESCRIPTION:Free genealogy workshop question and answer session where you can trace your family tree using free resources available on the internet\, best suited to absolute beginners. Contact Fiona at 059 9129705 or library@carlowcoco.ie for more information.
URL:http://www.carlowlibraries.ie/events/heritage-week-tracing-your-family-tree-with-bernie-walsh
CATEGORIES:Adult Event
END:VEVENT
END:VCALENDAR