BEGIN:VCALENDAR
VERSION:2.0
PRODID:-//Carlowlibraries.ie - ECPv4.4.2//NONSGML v1.0//EN
CALSCALE:GREGORIAN
METHOD:PUBLISH
X-WR-CALNAME:Carlowlibraries.ie
X-ORIGINAL-URL:http://www.carlowlibraries.ie
X-WR-CALDESC:Events for Carlowlibraries.ie
BEGIN:VEVENT
DTSTART;TZID=Europe/London:20170823T183000
DTEND;TZID=Europe/London:20170823T193000
DTSTAMP:20171024T011733
CREATED:20170802T113247Z
LAST-MODIFIED:20170802T113335Z
UID:2648-1503513000-1503516600@www.carlowlibraries.ie
SUMMARY:Heritage Week - County Carlow's Rich Heritage
DESCRIPTION:A talk by Author\, Michael Conry\, Michael came to Carlow in 1962 to carry out a survey of the soils of County Carlow which he completed in 1967. Although Carlow is a very small county\, Michael found that it was exceptionally rich in archaelogical artefacts and this led him to write a variety of books on various aspects of Carlow's rich heritage. Contact Fiona at 059 9129705 or library@carlowcoco.ie for more information.
URL:http://www.carlowlibraries.ie/events/heritage-week-county-carlows-rich-heritage
CATEGORIES:Adult Event
ATTACH;FMTTYPE=image/jpeg:http://www.carlowlibraries.ie/wp-content/uploads/2017/08/20429794_1550657331631460_8456995456177840827_n.jpg
END:VEVENT
END:VCALENDAR