BEGIN:VCALENDAR
VERSION:2.0
PRODID:-//Carlowlibraries.ie - ECPv4.4.2//NONSGML v1.0//EN
CALSCALE:GREGORIAN
METHOD:PUBLISH
X-WR-CALNAME:Carlowlibraries.ie
X-ORIGINAL-URL:http://www.carlowlibraries.ie
X-WR-CALDESC:Events for Carlowlibraries.ie
BEGIN:VEVENT
DTSTART;TZID=Europe/London:20161214T183000
DTEND;TZID=Europe/London:20161214T193000
DTSTAMP:20171024T042802
CREATED:20161122T152101Z
LAST-MODIFIED:20161122T152101Z
UID:2501-1481740200-1481743800@www.carlowlibraries.ie
SUMMARY:Christmas Carols in Tullow
DESCRIPTION:Join us in Tullow Library for our annual performance by Regina Hanley. This really is one of the highlights of the year. 
URL:http://www.carlowlibraries.ie/events/christmas-carols-in-tullow
CATEGORIES:Adult Event,Children's Event,Young People
END:VEVENT
END:VCALENDAR