BEGIN:VCALENDAR
VERSION:2.0
PRODID:-//Carlowlibraries.ie - ECPv4.4.2//NONSGML v1.0//EN
CALSCALE:GREGORIAN
METHOD:PUBLISH
X-WR-CALNAME:Carlowlibraries.ie
X-ORIGINAL-URL:http://www.carlowlibraries.ie
X-WR-CALDESC:Events for Carlowlibraries.ie
BEGIN:VEVENT
DTSTART;TZID=Europe/London:20161015T110000
DTEND;TZID=Europe/London:20161015T123000
DTSTAMP:20171104T223334
CREATED:20161012T100802Z
LAST-MODIFIED:20161012T115439Z
UID:2489-1476529200-1476534600@www.carlowlibraries.ie
SUMMARY:Freddy Buttons Story Time
DESCRIPTION:Bring your fussy little eaters to meet Sandy\, who will\, with the help of Freddy Buttons\, introduce healthier eating in a fun way that promises to take the stress out of family mealtimes.
URL:http://www.carlowlibraries.ie/events/freddy-buttons-story-time
CATEGORIES:Children's Event
ORGANIZER;CN="Fiona%20Foskin":MAILTO:ffoskin@carlowcoco.ie 
END:VEVENT
END:VCALENDAR