BEGIN:VCALENDAR
VERSION:2.0
PRODID:-//Carlowlibraries.ie - ECPv4.4.2//NONSGML v1.0//EN
CALSCALE:GREGORIAN
METHOD:PUBLISH
X-WR-CALNAME:Carlowlibraries.ie
X-ORIGINAL-URL:http://www.carlowlibraries.ie
X-WR-CALDESC:Events for Carlowlibraries.ie
BEGIN:VEVENT
DTSTART;VALUE=DATE:20160822
DTEND;VALUE=DATE:20160827
DTSTAMP:20171105T004712
CREATED:20160808T160925Z
LAST-MODIFIED:20160808T160925Z
UID:2443-1471824000-1472342399@www.carlowlibraries.ie
SUMMARY:Old Streets & Lanes of Carlow Town exhibition.
DESCRIPTION:CHAS - Carlow Historical & Archaeology Society.\n\nOld Streets & Lanes of Carlow Town exhibition.\n
URL:http://www.carlowlibraries.ie/events/old-streets-lanes-of-carlow-town-exhibition
CATEGORIES:Adult Event,Children's Event,Young People
ORGANIZER;CN="Jannette%20O%27Brien":MAILTO:jobrien@carlowcoco.ie 
END:VEVENT
BEGIN:VEVENT
DTSTART;VALUE=DATE:20160822
DTEND;VALUE=DATE:20160827
DTSTAMP:20171105T004712
CREATED:20160808T161057Z
LAST-MODIFIED:20160808T161057Z
UID:2444-1471824000-1472342399@www.carlowlibraries.ie
SUMMARY:Carlow Fire Service Photographic Display
DESCRIPTION:Photographic exhibition of Carlow County Fire Service down through the years.
URL:http://www.carlowlibraries.ie/events/carlow-fire-service-photographic-display
CATEGORIES:Adult Event,Children's Event,Young People
ORGANIZER;CN="Jannette%20O%27Brien":MAILTO:jobrien@carlowcoco.ie 
END:VEVENT
BEGIN:VEVENT
DTSTART;TZID=Europe/London:20160823T180000
DTEND;TZID=Europe/London:20160823T190000
DTSTAMP:20171105T004712
CREATED:20160808T161524Z
LAST-MODIFIED:20160808T161524Z
UID:2446-1471975200-1471978800@www.carlowlibraries.ie
SUMMARY:Walt Disney & the Carlow Connection
DESCRIPTION:Walt Disney & Carlow Connection by Martin Nevin in Muine Bheag Library.
URL:http://www.carlowlibraries.ie/events/walt-disney-the-carlow-connection
CATEGORIES:Adult Event,Children's Event,Young People
END:VEVENT
END:VCALENDAR