BEGIN:VCALENDAR
VERSION:2.0
PRODID:-//Carlowlibraries.ie - ECPv4.4.2//NONSGML v1.0//EN
CALSCALE:GREGORIAN
METHOD:PUBLISH
X-WR-CALNAME:Carlowlibraries.ie
X-ORIGINAL-URL:http://www.carlowlibraries.ie
X-WR-CALDESC:Events for Carlowlibraries.ie
BEGIN:VEVENT
DTSTART;TZID=Europe/London:20160811T180000
DTEND;TZID=Europe/London:20160811T200000
DTSTAMP:20171105T004534
CREATED:20160805T160223Z
LAST-MODIFIED:20160805T160223Z
UID:2440-1470938400-1470945600@www.carlowlibraries.ie
SUMMARY:Pokémon Go Meetup
DESCRIPTION:Carlow central Library are hosting a pokemon go meet up next week...... Join us and meet some likeminded trainers\,swap tips and hints to help you in your quest to "Catch em all"\n
URL:http://www.carlowlibraries.ie/events/pokemon-go-meetup
CATEGORIES:Adult Event,Children's Event,Young People
ORGANIZER;CN="Jannette%20O%27Brien":MAILTO:jobrien@carlowcoco.ie 
END:VEVENT
END:VCALENDAR