BEGIN:VCALENDAR
VERSION:2.0
PRODID:-//Carlowlibraries.ie - ECPv4.4.2//NONSGML v1.0//EN
CALSCALE:GREGORIAN
METHOD:PUBLISH
X-WR-CALNAME:Carlowlibraries.ie
X-ORIGINAL-URL:http://www.carlowlibraries.ie
X-WR-CALDESC:Events for Carlowlibraries.ie
BEGIN:VEVENT
DTSTART;TZID=Europe/London:20160527T070000
DTEND;TZID=Europe/London:20160527T210000
DTSTAMP:20171104T073648
CREATED:20160505T093216Z
LAST-MODIFIED:20160505T093216Z
UID:2395-1464332400-1464382800@www.carlowlibraries.ie
SUMMARY:Book Launch of Jewtown by Simon Lewis
DESCRIPTION:Join us as we launch local poet Simon Lewis' debut collection\, Jewtown in Carlow Library for a night of celebrating creativity! This event is part of our Bealtaine Festival programme.
URL:http://www.carlowlibraries.ie/events/book-launch-of-jewtown-by-simon-lewis
CATEGORIES:Adult Event
ORGANIZER;CN="Fiona%20Foskin":MAILTO:ffoskin@carlowcoco.ie 
END:VEVENT
END:VCALENDAR