BEGIN:VCALENDAR
VERSION:2.0
PRODID:-//Carlowlibraries.ie - ECPv4.4.2//NONSGML v1.0//EN
CALSCALE:GREGORIAN
METHOD:PUBLISH
X-WR-CALNAME:Carlowlibraries.ie
X-ORIGINAL-URL:http://www.carlowlibraries.ie
X-WR-CALDESC:Events for Carlowlibraries.ie
BEGIN:VEVENT
DTSTART;VALUE=DATE:20160831
DTEND;VALUE=DATE:20160914
DTSTAMP:20171028T232317
CREATED:20160808T161905Z
LAST-MODIFIED:20160825T105044Z
UID:2448-1472601600-1473897599@www.carlowlibraries.ie
SUMMARY:A Snapshot in Time Exhibition
DESCRIPTION:A Snapshot in Time Exhibition showcasing a selection from the Carlow Nationalist in 1916.
URL:http://www.carlowlibraries.ie/events/a-snapshot-in-time-exhibition
CATEGORIES:Adult Event,Children's Event,Young People
END:VEVENT
END:VCALENDAR