BEGIN:VCALENDAR
VERSION:2.0
PRODID:-//Carlowlibraries.ie - ECPv4.4.2//NONSGML v1.0//EN
CALSCALE:GREGORIAN
METHOD:PUBLISH
X-WR-CALNAME:Carlowlibraries.ie
X-ORIGINAL-URL:http://www.carlowlibraries.ie
X-WR-CALDESC:Events for Carlowlibraries.ie
BEGIN:VEVENT
DTSTART;VALUE=DATE:20170810
DTEND;VALUE=DATE:20170810
DTSTAMP:20171104T134219
CREATED:20170802T111930Z
LAST-MODIFIED:20170802T111930Z
UID:2634-1502323200-1502409599@www.carlowlibraries.ie
SUMMARY:Arts & Crafts Creativity Day
DESCRIPTION:Arts & Crafts Creativity Day as part of Summer Reading Challenge in Muinebheag Library. Contact Bernie 0r Breeda at 059 9129703 for more information.
URL:http://www.carlowlibraries.ie/events/arts-crafts-creativity-day
CATEGORIES:Children's Event,Childrens Book Festival - October 2015
END:VEVENT
END:VCALENDAR