BEGIN:VCALENDAR
VERSION:2.0
PRODID:-//Carlowlibraries.ie - ECPv4.4.2//NONSGML v1.0//EN
CALSCALE:GREGORIAN
METHOD:PUBLISH
X-WR-CALNAME:Carlowlibraries.ie
X-ORIGINAL-URL:http://www.carlowlibraries.ie
X-WR-CALDESC:Events for Carlowlibraries.ie
BEGIN:VEVENT
DTSTART;TZID=Europe/London:20170801T110000
DTEND;TZID=Europe/London:20170801T120000
DTSTAMP:20171104T134202
CREATED:20170725T133719Z
LAST-MODIFIED:20170725T133719Z
UID:2620-1501585200-1501588800@www.carlowlibraries.ie
SUMMARY:Dog's Trust Workshop
DESCRIPTION:Join the Dog's Trust in Muinebheag Library to find out about dog safety in your home and County on Monday\, August 1st at 11am.\n\nContact Fiona at 059 9129705 or library@carlowcoco.ie to find out more.
URL:http://www.carlowlibraries.ie/events/dogs-trust-workshop-4
CATEGORIES:Children's Event,Young People
END:VEVENT
END:VCALENDAR