BEGIN:VCALENDAR
VERSION:2.0
PRODID:-//Carlowlibraries.ie - ECPv4.4.2//NONSGML v1.0//EN
CALSCALE:GREGORIAN
METHOD:PUBLISH
X-WR-CALNAME:Carlowlibraries.ie
X-ORIGINAL-URL:http://www.carlowlibraries.ie
X-WR-CALDESC:Events for Carlowlibraries.ie
BEGIN:VEVENT
DTSTART;TZID=Europe/London:20170731T110000
DTEND;TZID=Europe/London:20170731T120000
DTSTAMP:20171104T134132
CREATED:20170725T133531Z
LAST-MODIFIED:20170725T133531Z
UID:2618-1501498800-1501502400@www.carlowlibraries.ie
SUMMARY:Dogs Trust Workshop
DESCRIPTION:Join the Dog's Trust in Borris Library to find out about dog safety in your home and County on Monday\, July 31st at 11am.\n\n \n\nContact Fiona at 059 9129705 or library@carlowcoco.ie to find out more.
URL:http://www.carlowlibraries.ie/events/dogs-trust-workshop-3
CATEGORIES:Children's Event,Young People
END:VEVENT
END:VCALENDAR